Workbook

Sheet Vapor Data
A1: Date | B1: VMP-01 | C1: VMP-02 | D1: VMP-03 | E1: VMP-04 | F1: VMP-05 | G1: VMP-06 | H1: VMP-07 | I1: VMP-08 | J1: VMP-09 | K1: VMP-10 | L1: VMP-11 | M1: VMP-12 | N1: *Notes: Units are in ppm
A2: 41877 | B2: 1735 | C2: 120.2 | D2: 115.7 | E2: 1.6 | F2: 9.6 | G2: 383.3 | H2: 31.3
A3: 41878 | B3: 1843 | C3: 87.1 | D3: 68.4 | E3: 1.6 | F3: 2.9 | G3: 603.6 | H3: 4.6 | I3: 31.1 | J3: 28.6 | K3: 378.4 | L3: 195.7 | M3: 85
A4: 41879 | B4: 860 | C4: 90.4 | D4: 109.6 | E4: 0.7 | F4: 2.5 | G4: 394.6 | H4: 7.7 | I4: 2.7 | J4: 4.9 | K4: 462.5 | L4: 583.2 | M4: 53.6
A5: 41880 | B5: 1088 | C5: 113 | D5: 123.4 | E5: 0 | F5: 0 | G5: 490 | I5: 0 | J5: 0 | K5: 128 | L5: 176.7 | M5: 1.9 | N5: VMP-07 not found
A6: 41881 | B6: 1001 | C6: 92.1 | D6: 106.5 | E6: 5.4 | F6: 11.2 | G6: 530 | H6: 23.7 | I6: 0.6 | J6: 1.4 | K6: 61.2 | L6: 51.2 | M6: 4.4
A7: 41882 | B7: 1221 | C7: 191.3 | D7: 117.2 | E7: 21.9 | F7: 93.5 | G7: 246.4 | H7: 58 | I7: 13.3 | J7: 12.6 | K7: 63.3 | L7: 65.7 | M7: 27.2 | N7: Observations: Drainage area between VMP-03 and VMP-04 did not show any water or product staining. Additionally no flow or product was observed at Upton Gate #23 near river (NW flank).
A8: 41883 | B8: 1851 | C8: 92.6 | D8: 56.9 | E8: 0 | F8: 5.2 | G8: 854.7 | H8: 390.3 | I8: 0 | J8: 0 | K8: 0 | L8: 0 | M8: 0

Sheet VertFormat
A1: Order | B1: Included? | C1: Row | D1: Column | E1: Date | F1: Sampling Point | G1: Value | H1: Units | I1: # days: | J1: =COUNTA('Vapor Data'!A:A)-1 -> 7
A2: 1 | B2: =IF(A2<=$J$3,1,0) -> 1 | C2: =TRUNC((A2-1)/J$2)+1 -> 1 | D2: =MOD((A2-1),J$2)+1 -> 1 | E2: =IF($B2,OFFSET('Vapor Data'!$A$1,$C2,0),NA()) -> 41877 | F2: =IF($B2,OFFSET('Vapor Data'!$A$1,0,$D2),NA()) -> VMP-01 | G2: =IF($B2,OFFSET('Vapor Data'!$A$1,$C2,$D2),NA()) -> 1735 | H2: ppm | I2: # VMPs: | J2: =COUNTA('Vapor Data'!1:1)-2 -> 12
A3: =A2+1 -> 2 | B3: =IF(A3<=$J$3,1,0) -> 1 | C3: =TRUNC((A3-1)/J$2)+1 -> 1 | D3: =MOD((A3-1),J$2)+1 -> 2 | E3: =IF($B3,OFFSET('Vapor Data'!$A$1,$C3,0),NA()) -> 41877 | F3: =IF($B3,OFFSET('Vapor Data'!$A$1,0,$D3),NA()) -> VMP-02 | G3: =IF($B3,OFFSET('Vapor Data'!$A$1,$C3,$D3),NA()) -> 120.2 | H3: ppm | I3: # data points: | J3: =J1*J2 -> 84
A4: =A3+1 -> 3 | B4: =IF(A4<=$J$3,1,0) -> 1 | C4: =TRUNC((A4-1)/J$2)+1 -> 1 | D4: =MOD((A4-1),J$2)+1 -> 3 | E4: =IF($B4,OFFSET('Vapor Data'!$A$1,$C4,0),NA()) -> 41877 | F4: =IF($B4,OFFSET('Vapor Data'!$A$1,0,$D4),NA()) -> VMP-03 | G4: =IF($B4,OFFSET('Vapor Data'!$A$1,$C4,$D4),NA()) -> 115.7 | H4: ppm
A5: =A4+1 -> 4 | B5: =IF(A5<=$J$3,1,0) -> 1 | C5: =TRUNC((A5-1)/J$2)+1 -> 1 | D5: =MOD((A5-1),J$2)+1 -> 4 | E5: =IF($B5,OFFSET('Vapor Data'!$A$1,$C5,0),NA()) -> 41877 | F5: =IF($B5,OFFSET('Vapor Data'!$A$1,0,$D5),NA()) -> VMP-04 | G5: =IF($B5,OFFSET('Vapor Data'!$A$1,$C5,$D5),NA()) -> 1.6 | H5: ppm
A6: =A5+1 -> 5 | B6: =IF(A6<=$J$3,1,0) -> 1 | C6: =TRUNC((A6-1)/J$2)+1 -> 1 | D6: =MOD((A6-1),J$2)+1 -> 5 | E6: =IF($B6,OFFSET('Vapor Data'!$A$1,$C6,0),NA()) -> 41877 | F6: =IF($B6,OFFSET('Vapor Data'!$A$1,0,$D6),NA()) -> VMP-05 | G6: =IF($B6,OFFSET('Vapor Data'!$A$1,$C6,$D6),NA()) -> 9.6 | H6: ppm
A7: =A6+1 -> 6 | B7: =IF(A7<=$J$3,1,0) -> 1 | C7: =TRUNC((A7-1)/J$2)+1 -> 1 | D7: =MOD((A7-1),J$2)+1 -> 6 | E7: =IF($B7,OFFSET('Vapor Data'!$A$1,$C7,0),NA()) -> 41877 | F7: =IF($B7,OFFSET('Vapor Data'!$A$1,0,$D7),NA()) -> VMP-06 | G7: =IF($B7,OFFSET('Vapor Data'!$A$1,$C7,$D7),NA()) -> 383.3 | H7: ppm
A8: =A7+1 -> 7 | B8: =IF(A8<=$J$3,1,0) -> 1 | C8: =TRUNC((A8-1)/J$2)+1 -> 1 | D8: =MOD((A8-1),J$2)+1 -> 7 | E8: =IF($B8,OFFSET('Vapor Data'!$A$1,$C8,0),NA()) -> 41877 | F8: =IF($B8,OFFSET('Vapor Data'!$A$1,0,$D8),NA()) -> VMP-07 | G8: =IF($B8,OFFSET('Vapor Data'!$A$1,$C8,$D8),NA()) -> 31.3 | H8: ppm
A9: =A8+1 -> 8 | B9: =IF(A9<=$J$3,1,0) -> 1 | C9: =TRUNC((A9-1)/J$2)+1 -> 1 | D9: =MOD((A9-1),J$2)+1 -> 8 | E9: =IF($B9,OFFSET('Vapor Data'!$A$1,$C9,0),NA()) -> 41877 | F9: =IF($B9,OFFSET('Vapor Data'!$A$1,0,$D9),NA()) -> VMP-08 | G9: =IF($B9,OFFSET('Vapor Data'!$A$1,$C9,$D9),NA()) -> 0 | H9: ppm
A10: =A9+1 -> 9 | B10: =IF(A10<=$J$3,1,0) -> 1 | C10: =TRUNC((A10-1)/J$2)+1 -> 1 | D10: =MOD((A10-1),J$2)+1 -> 9 | E10: =IF($B10,OFFSET('Vapor Data'!$A$1,$C10,0),NA()) -> 41877 | F10: =IF($B10,OFFSET('Vapor Data'!$A$1,0,$D10),NA()) -> VMP-09 | G10: =IF($B10,OFFSET('Vapor Data'!$A$1,$C10,$D10),NA()) -> 0 | H10: ppm
A11: =A10+1 -> 10 | B11: =IF(A11<=$J$3,1,0) -> 1 | C11: =TRUNC((A11-1)/J$2)+1 -> 1 | D11: =MOD((A11-1),J$2)+1 -> 10 | E11: =IF($B11,OFFSET('Vapor Data'!$A$1,$C11,0),NA()) -> 41877 | F11: =IF($B11,OFFSET('Vapor Data'!$A$1,0,$D11),NA()) -> VMP-10 | G11: =IF($B11,OFFSET('Vapor Data'!$A$1,$C11,$D11),NA()) -> 0 | H11: ppm
A12: =A11+1 -> 11 | B12: =IF(A12<=$J$3,1,0) -> 1 | C12: =TRUNC((A12-1)/J$2)+1 -> 1 | D12: =MOD((A12-1),J$2)+1 -> 11 | E12: =IF($B12,OFFSET('Vapor Data'!$A$1,$C12,0),NA()) -> 41877 | F12: =IF($B12,OFFSET('Vapor Data'!$A$1,0,$D12),NA()) -> VMP-11 | G12: =IF($B12,OFFSET('Vapor Data'!$A$1,$C12,$D12),NA()) -> 0 | H12: ppm
A13: =A12+1 -> 12 | B13: =IF(A13<=$J$3,1,0) -> 1 | C13: =TRUNC((A13-1)/J$2)+1 -> 1 | D13: =MOD((A13-1),J$2)+1 -> 12 | E13: =IF($B13,OFFSET('Vapor Data'!$A$1,$C13,0),NA()) -> 41877 | F13: =IF($B13,OFFSET('Vapor Data'!$A$1,0,$D13),NA()) -> VMP-12 | G13: =IF($B13,OFFSET('Vapor Data'!$A$1,$C13,$D13),NA()) -> 0 | H13: ppm
A14: =A13+1 -> 13 | B14: =IF(A14<=$J$3,1,0) -> 1 | C14: =TRUNC((A14-1)/J$2)+1 -> 2 | D14: =MOD((A14-1),J$2)+1 -> 1 | E14: =IF($B14,OFFSET('Vapor Data'!$A$1,$C14,0),NA()) -> 41878 | F14: =IF($B14,OFFSET('Vapor Data'!$A$1,0,$D14),NA()) -> VMP-01 | G14: =IF($B14,OFFSET('Vapor Data'!$A$1,$C14,$D14),NA()) -> 1843 | H14: ppm
A15: =A14+1 -> 14 | B15: =IF(A15<=$J$3,1,0) -> 1 | C15: =TRUNC((A15-1)/J$2)+1 -> 2 | D15: =MOD((A15-1),J$2)+1 -> 2 | E15: =IF($B15,OFFSET('Vapor Data'!$A$1,$C15,0),NA()) -> 41878 | F15: =IF($B15,OFFSET('Vapor Data'!$A$1,0,$D15),NA()) -> VMP-02 | G15: =IF($B15,OFFSET('Vapor Data'!$A$1,$C15,$D15),NA()) -> 87.1 | H15: ppm
... A207: =A206+1 -> 206 | B207: =IF(A207<=$J$3,1,0) -> 0 | C207: =TRUNC((A207-1)/J$2)+1 -> 18 | D207: =MOD((A207-1),J$2)+1 -> 2 | E207: =IF($B207,OFFSET('Vapor Data'!$A$1,$C207,0),NA()) -> #N/A | F207: =IF($B207,OFFSET('Vapor Data'!$A$1,0,$D207),NA()) -> #N/A | G207: =IF($B207,OFFSET('Vapor Data'!$A$1,$C207,$D207),NA()) -> #N/A | H207: ppm

Sheet Charts
A3: Average of Value | B3: Column Labels
A4: Row Labels | B4: VMP-01 | C4: VMP-02 | D4: VMP-03 | E4: VMP-04 | F4: VMP-05 | G4: VMP-06 | H4: VMP-07 | I4: VMP-08 | J4: VMP-09 | K4: VMP-10 | L4: VMP-11 | M4: VMP-12 | N4: #N/A | O4: (blank) | P4: Grand Total
A5: #N/A | N5: #N/A | P5: #N/A
A6: 41877 | B6: 1735 | C6: 120.2 | D6: 115.7 | E6: 1.6 | F6: 9.6 | G6: 383.3 | H6: 31.3 | I6: 0 | J6: 0 | K6: 0 | L6: 0 | M6: 0 | P6: 199.725
A7: 41878 | B7: 1843 | C7: 87.1 | D7: 68.4 | E7: 1.6 | F7: 2.9 | G7: 603.6 | H7: 4.6 | I7: 31.1 | J7: 28.6 | K7: 378.4 | L7: 195.7 | M7: 85 | P7: 277.5
A8: 41879 | B8: 860 | C8: 90.4 | D8: 109.6 | E8: 0.7 | F8: 2.5 | G8: 394.6 | H8: 7.7 | I8: 2.7 | J8: 4.9 | K8: 462.5 | L8: 583.2 | M8: 53.6 | P8: 214.36667
A9: 41880 | B9: 1088 | C9: 113 | D9: 123.4 | E9: 0 | F9: 0 | G9: 490 | H9: 0 | I9: 0 | J9: 0 | K9: 128 | L9: 176.7 | M9: 1.9 | P9: 176.75
A10: 41881 | B10: 1001 | C10: 92.1 | D10: 106.5 | E10: 5.4 | F10: 11.2 | G10: 530 | H10: 23.7 | I10: 0.6 | J10: 1.4 | K10: 61.2 | L10: 51.2 | M10: 4.4 | P10: 157.39167
A11: 41882 | B11: 1221 | C11: 191.3 | D11: 117.2 | E11: 21.9 | F11: 93.5 | G11: 246.4 | H11: 58 | I11: 13.3 | J11: 12.6 | K11: 63.3 | L11: 65.7 | M11: 27.2 | P11: 177.61667
A12: 41883 | B12: 1851 | C12: 92.6 | D12: 56.9 | E12: 0 | F12: 5.2 | G12: 854.7 | H12: 390.3 | I12: 0 | J12: 0 | K12: 0 | L12: 0 | M12: 0 | P12: 270.89167
A13: (blank)
A14: Grand Total | B14: 1371.2857 | C14: 112.38571 | D14: 99.671429 | E14: 4.4571429 | F14: 17.842857 | G14: 500.37143 | H14: 73.657143 | I14: 6.8142857 | J14: 6.7857143 | K14: 156.2 | L14: 153.21429 | M14: 24.585714 | N14: #N/A | P14: #N/A
